BEGIN:VCALENDAR
VERSION:2.0
PRODID:-//ChamberMaster//Event Calendar 2.0//EN
METHOD:PUBLISH
X-PUBLISHED-TTL:P3D
REFRESH-INTERVAL:P3D
CALSCALE:GREGORIAN
BEGIN:VEVENT
DTSTART:20191113T010000Z
DTEND:20191113T020000Z
X-MICROSOFT-CDO-ALLDAYEVENT:FALSE
SUMMARY:HAYP "Real World 101"
DESCRIPTION:A round table conversation from experts in their field to students on the chosen topics of loans (types of loans\, interest\, paying on time\, etc.) and budgeting during and after college. Guests are Kayla Lonnon\, Sunflower Bank and Adam Pray\, Platinum Group Realty. Free to attend\, no RSVP's needed. Open to FHSU\, NCK Tech\, Hays Hair Academy\, Hays High School and TMP-M students. Some professors offering extra credit to attend. Sponsors included the FHSU Career Services office and the KSU Cottonwood District.
X-ALT-DESC;FMTTYPE=text/html:A round table conversation from experts in their field to students on the chosen topics of loans (types of loans\, interest\, paying on time\, etc.) and budgeting during and after college. Guests are Kayla Lonnon\, Sunflower Bank and Adam Pray\, Platinum Group Realty. Free to attend\, no RSVP&#39\;s needed. Open to FHSU\, NCK Tech\, Hays Hair Academy\, Hays High School and TMP-M students. Some professors offering extra credit to attend. Sponsors included the FHSU Career Services office and the KSU Cottonwood District.
LOCATION:Stouffer Lounge FHSU Memorial Union 600 Park St.
UID:e.1271.10325
SEQUENCE:3
DTSTAMP:20260421T232120Z
URL:https://members.hayschamber.com/events/details/hayp-real-world-101-11-12-2019-10325
END:VEVENT

END:VCALENDAR
