BEGIN:VCALENDAR
VERSION:2.0
PRODID:-//ChamberMaster//Event Calendar 2.0//EN
METHOD:PUBLISH
X-PUBLISHED-TTL:P3D
REFRESH-INTERVAL:P3D
CALSCALE:GREGORIAN
BEGIN:VEVENT
DTSTART:20171115T010000Z
DTEND:20171115T020000Z
X-MICROSOFT-CDO-ALLDAYEVENT:FALSE
SUMMARY:HAYP "Real World 101"
DESCRIPTION:An informative presentation from young professionals about student loans\, digital citizenship\, and renting vs. buying
X-ALT-DESC;FMTTYPE=text/html:&nbsp\;An informative presentation from young professionals about student loans\, digital citizenship\, and renting vs. buying
LOCATION:FHSU Memorial Union Stouffer Lounge
UID:e.1271.8663
SEQUENCE:3
DTSTAMP:20260424T190548Z
URL:https://members.hayschamber.com/events/details/hayp-real-world-101-8663
END:VEVENT

END:VCALENDAR
