BEGIN:VCALENDAR
VERSION:2.0
PRODID:-//ChamberMaster//Event Calendar 2.0//EN
METHOD:PUBLISH
X-PUBLISHED-TTL:P3D
REFRESH-INTERVAL:P3D
CALSCALE:GREGORIAN
BEGIN:VEVENT
DTSTART:20190912T221500Z
DTEND:20190912T234500Z
X-MICROSOFT-CDO-ALLDAYEVENT:FALSE
SUMMARY:HAYP Tailgate
DESCRIPTION:Join fellow HAYP members and support the FHSU Tigers at the Tailgate potluck  Bring a side dish and your beverage of choice and enjoy the great company of fellow young professionals before the game kicks off.
X-ALT-DESC;FMTTYPE=text/html:Join fellow HAYP members and support the FHSU Tigers at the Tailgate potluck&nbsp\; Bring a side dish and your beverage of choice and enjoy the great company of fellow young professionals before the game kicks off.&nbsp\;&nbsp\;&nbsp\;&nbsp\;
LOCATION:Outside of Lewis Field FHSU Campus
UID:e.1271.10291
SEQUENCE:3
DTSTAMP:20260422T020515Z
URL:https://members.hayschamber.com/events/details/hayp-tailgate-10291
END:VEVENT

END:VCALENDAR
