BEGIN:VCALENDAR
VERSION:2.0
PRODID:-//ChamberMaster//Event Calendar 2.0//EN
METHOD:PUBLISH
X-PUBLISHED-TTL:P3D
REFRESH-INTERVAL:P3D
CALSCALE:GREGORIAN
BEGIN:VEVENT
DTSTART:20191009T000000Z
DTEND:20191009T010000Z
X-MICROSOFT-CDO-ALLDAYEVENT:FALSE
SUMMARY:HAYP Trick Or Treat So Others Can Eat
DESCRIPTION:This is a volunteer opportunity for our HAYP'ers to walk door to door in our given region and collect canned goods. The HAYP group will meet at the Cloud Storage parking lot and walk together to cover the area. Bring your family or walk solo\, up to you!
X-ALT-DESC;FMTTYPE=text/html:This is a volunteer opportunity for our HAYP&#39\;ers to walk door to door in our given region and collect canned goods. The HAYP group will meet at the Cloud Storage parking lot and walk together to cover the area. Bring your family or walk solo\, up to you!
LOCATION:Meet at the Cloud Storage parking lot. (1305 Canterbury Dr.)
UID:e.1271.10313
SEQUENCE:3
DTSTAMP:20260422T010127Z
URL:https://members.hayschamber.com/events/details/hayp-trick-or-treat-so-others-can-eat-10313
END:VEVENT

END:VCALENDAR
