BEGIN:VCALENDAR
VERSION:2.0
PRODID:-//ChamberMaster//Event Calendar 2.0//EN
METHOD:PUBLISH
X-PUBLISHED-TTL:P3D
REFRESH-INTERVAL:P3D
CALSCALE:GREGORIAN
BEGIN:VEVENT
DTSTART:20180719T223000Z
DTEND:20180719T233000Z
X-MICROSOFT-CDO-ALLDAYEVENT:FALSE
SUMMARY:HAYP Volunteer Night
DESCRIPTION:Contact Audrey Werth to volunteer\, audrey.werth@commercebank.com.
X-ALT-DESC;FMTTYPE=text/html:Contact Audrey Werth to volunteer\, audrey.werth@commercebank.com.
LOCATION:Ellis County Fairgrounds 1344 Fairground Rd.
UID:e.1271.9852
SEQUENCE:3
DTSTAMP:20260423T211358Z
URL:https://members.hayschamber.com/events/details/hayp-volunteer-night-9852
END:VEVENT

END:VCALENDAR
