BEGIN:VCALENDAR
VERSION:2.0
PRODID:-//ChamberMaster//Event Calendar 2.0//EN
METHOD:PUBLISH
X-PUBLISHED-TTL:P3D
REFRESH-INTERVAL:P3D
CALSCALE:GREGORIAN
BEGIN:VEVENT
DTSTART:20191108T010000Z
DTEND:20191108T020000Z
X-MICROSOFT-CDO-ALLDAYEVENT:FALSE
SUMMARY:HAYP XYP: Give Me Back My Money
DESCRIPTION:Hosted by young professional\, Jessica Moffitt\, 60 minutes on saving over 60% of your money while grocery shopping. This will include simple tips like grocery shopping lists\, meal planning\, the BEST way to use coupons\, and tell you the secrets psychologists and research specialists say big grocery stores paid them to study so that you will spend more money. BONUS: Go home with a coupon for 1 free initial consultation for meal planning and grocery list assist! Hosted by YP professional Jessica Moffitt\, Certified Health Education Specialist! Program sponsored by Prospectively Healthy. Free to attend.
X-ALT-DESC;FMTTYPE=text/html:<span style="font-family:verdana\,sans-serif\;">Hosted by young professional\, Jessica Moffitt\, 60 minutes on saving over 60% of your money while grocery shopping. This will include simple tips like grocery shopping lists\, meal planning\, the BEST way to use coupons\, and tell you the secrets psychologists and research specialists say big grocery stores paid them to study so that you will spend more money. BONUS: Go home with a coupon for 1&nbsp\;free initial consultation for meal planning and grocery list assist! Hosted by YP professional Jessica Moffitt\, Certified Health Education Specialist!&nbsp\;Program sponsored by Prospectively Healthy. Free to attend.</span><br />\n&nbsp\;
LOCATION:CBD American Shaman 2013 Vine St.
UID:e.1271.10331
SEQUENCE:3
DTSTAMP:20260422T004153Z
URL:https://members.hayschamber.com/events/details/hayp-xyp-give-me-back-my-money-10331
END:VEVENT

END:VCALENDAR
