BEGIN:VCALENDAR
VERSION:2.0
PRODID:-//ChamberMaster//Event Calendar 2.0//EN
METHOD:PUBLISH
X-PUBLISHED-TTL:P3D
REFRESH-INTERVAL:P3D
CALSCALE:GREGORIAN
BEGIN:VEVENT
DTSTART:20180327T220000Z
DTEND:20180328T000000Z
X-MICROSOFT-CDO-ALLDAYEVENT:FALSE
SUMMARY:Healthcare Appreciation
DESCRIPTION:
X-ALT-DESC;FMTTYPE=text/html:
LOCATION:HaysMed Rock Garden 2220 Canterbury Dr.
UID:e.1271.8731
SEQUENCE:3
DTSTAMP:20260424T105043Z
URL:https://members.hayschamber.com/events/details/healthcare-appreciation-8731
END:VEVENT

END:VCALENDAR
