BEGIN:VCALENDAR
VERSION:2.0
PRODID:-//ChamberMaster//Event Calendar 2.0//EN
METHOD:PUBLISH
X-PUBLISHED-TTL:P3D
REFRESH-INTERVAL:P3D
CALSCALE:GREGORIAN
BEGIN:VEVENT
DTSTART:20190326T220000Z
DTEND:20190327T000000Z
X-MICROSOFT-CDO-ALLDAYEVENT:FALSE
SUMMARY:Healthcare Appreciation
DESCRIPTION:
X-ALT-DESC;FMTTYPE=text/html:
LOCATION:HaysMed Rock Garden Cafe Within HaysMed The University of Kansas Health System
UID:e.1271.9915
SEQUENCE:3
DTSTAMP:20260422T182642Z
URL:https://members.hayschamber.com/events/details/healthcare-appreciation-9915
END:VEVENT

END:VCALENDAR
