BEGIN:VCALENDAR
VERSION:2.0
PRODID:-//ChamberMaster//Event Calendar 2.0//EN
METHOD:PUBLISH
X-PUBLISHED-TTL:P3D
REFRESH-INTERVAL:P3D
CALSCALE:GREGORIAN
BEGIN:VEVENT
DTSTART:20170328T220000Z
DTEND:20170329T000000Z
X-MICROSOFT-CDO-ALLDAYEVENT:FALSE
SUMMARY:Healthcare Appreciation Reception
DESCRIPTION:
X-ALT-DESC;FMTTYPE=text/html:
LOCATION:HaysMed- Hadley Rooms 2220 Canterbury
UID:e.1271.5815
SEQUENCE:3
DTSTAMP:20260425T191157Z
URL:https://members.hayschamber.com/events/details/healthcare-appreciation-reception-5815
END:VEVENT

END:VCALENDAR
