BEGIN:VCALENDAR
VERSION:2.0
PRODID:-//ChamberMaster//Event Calendar 2.0//EN
METHOD:PUBLISH
X-PUBLISHED-TTL:P3D
REFRESH-INTERVAL:P3D
CALSCALE:GREGORIAN
BEGIN:VEVENT
DTSTART:20191221T140000Z
DTEND:20191221T220000Z
X-MICROSOFT-CDO-ALLDAYEVENT:FALSE
SUMMARY:Holiday Hours - 8:00 am to 4:00 pm
DESCRIPTION:The Chamber office will be open from 8:00 am to 4:00 pm to facilitate holiday chamber cheque requests. SHOP LOCAL!!!!
X-ALT-DESC;FMTTYPE=text/html:The Chamber office will be open from 8:00 am to 4:00 pm to facilitate holiday chamber cheque requests. SHOP LOCAL!!!!
LOCATION:
UID:e.1271.10347
SEQUENCE:3
DTSTAMP:20260421T220636Z
URL:https://members.hayschamber.com/events/details/holiday-hours-8-00-am-to-4-00-pm-10347
END:VEVENT

END:VCALENDAR
