BEGIN:VCALENDAR
VERSION:2.0
PRODID:-//ChamberMaster//Event Calendar 2.0//EN
METHOD:PUBLISH
X-PUBLISHED-TTL:P3D
REFRESH-INTERVAL:P3D
CALSCALE:GREGORIAN
BEGIN:VEVENT
DTSTART;VALUE=DATE:20191230
DTEND;VALUE=DATE:20191231
TRANSP:TRANSPARENT
X-MICROSOFT-CDO-ALLDAYEVENT:TRUE
SUMMARY:Holiday Hours - 8:00 am to 4:00 pm
DESCRIPTION:Holiday Hours - 8:00 am to 4:00 pm
X-ALT-DESC;FMTTYPE=text/html:Holiday Hours - 8:00 am to 4:00 pm
LOCATION:
UID:e.1271.10354
SEQUENCE:3
DTSTAMP:20260421T220222Z
URL:https://members.hayschamber.com/events/details/holiday-hours-8-00-am-to-4-00-pm-10354
END:VEVENT

END:VCALENDAR
