BEGIN:VCALENDAR
VERSION:2.0
PRODID:-//ChamberMaster//Event Calendar 2.0//EN
METHOD:PUBLISH
X-PUBLISHED-TTL:P3D
REFRESH-INTERVAL:P3D
CALSCALE:GREGORIAN
BEGIN:VEVENT
DTSTART:20191223T150000Z
DTEND:20191223T190000Z
X-MICROSOFT-CDO-ALLDAYEVENT:FALSE
SUMMARY:Holiday Hours - 9:00 am to 1:00 pm
DESCRIPTION:The Chamber office will be open from 9:00 am to 1:00 pm to facilitate holiday chamber cheques. SHOP LOCAL!!!
X-ALT-DESC;FMTTYPE=text/html:The Chamber office will be open from 9:00 am to 1:00 pm to facilitate holiday chamber cheques. SHOP LOCAL!!!
LOCATION:
UID:e.1271.10349
SEQUENCE:3
DTSTAMP:20260421T220252Z
URL:https://members.hayschamber.com/events/details/holiday-hours-9-00-am-to-1-00-pm-10349
END:VEVENT

END:VCALENDAR
