BEGIN:VCALENDAR
VERSION:2.0
PRODID:-//ChamberMaster//Event Calendar 2.0//EN
METHOD:PUBLISH
X-PUBLISHED-TTL:P3D
REFRESH-INTERVAL:P3D
CALSCALE:GREGORIAN
BEGIN:VEVENT
DTSTART:20260812T170000Z
DTEND:20260812T180000Z
X-MICROSOFT-CDO-ALLDAYEVENT:FALSE
SUMMARY:HYP Advisory Council Meeting
DESCRIPTION:
X-ALT-DESC;FMTTYPE=text/html:
LOCATION:Astra Bank 2605 Main St.\, Hays
UID:e.1271.12867
SEQUENCE:3
DTSTAMP:20260424T054642Z
URL:https://members.hayschamber.com/events/details/hyp-advisory-council-meeting-12867
END:VEVENT

END:VCALENDAR
