BEGIN:VCALENDAR
VERSION:2.0
PRODID:-//ChamberMaster//Event Calendar 2.0//EN
METHOD:PUBLISH
X-PUBLISHED-TTL:P3D
REFRESH-INTERVAL:P3D
CALSCALE:GREGORIAN
BEGIN:VEVENT
DTSTART:20260603T170000Z
DTEND:20260603T180000Z
X-MICROSOFT-CDO-ALLDAYEVENT:FALSE
SUMMARY:HYP Connect Committee Meeting
DESCRIPTION:Come join the HYP Connect Committee for their monthly meeting!\n\n\n\nThe Connect committee organizes events and social hours to connect young professionals and build community engagement\, bringing people together through meaningful connections.
X-ALT-DESC;FMTTYPE=text/html:Come join the HYP Connect Committee for their monthly meeting!<br />\n<br />\nThe Connect committee organizes events and social hours to connect young professionals and build community engagement\, bringing people together through meaningful connections.
LOCATION:Astra Bank - Conference Room 2605 Main St.\, Hays
UID:e.1271.12935
SEQUENCE:3
DTSTAMP:20260423T171859Z
URL:https://members.hayschamber.com/events/details/hyp-connect-committee-meeting-12935
END:VEVENT

END:VCALENDAR
