BEGIN:VCALENDAR
VERSION:2.0
PRODID:-//ChamberMaster//Event Calendar 2.0//EN
METHOD:PUBLISH
X-PUBLISHED-TTL:P3D
REFRESH-INTERVAL:P3D
CALSCALE:GREGORIAN
BEGIN:VEVENT
DTSTART:20261007T170000Z
DTEND:20261007T180000Z
X-MICROSOFT-CDO-ALLDAYEVENT:FALSE
SUMMARY:HYP Connect Committee Meeting
DESCRIPTION:Come join the HYP Connect Committee for their monthly meeting!\n\n\n\nThe Connect committee organizes events and social hours to connect young professionals and build community engagement\, bringing people together through meaningful connections.
X-ALT-DESC;FMTTYPE=text/html:Come join the HYP Connect Committee for their monthly meeting!<br />\n<br />\nThe Connect committee organizes events and social hours to connect young professionals and build community engagement\, bringing people together through meaningful connections.
LOCATION:Astra Bank - Conference Room 2605 Main St.\, Hays
UID:e.1271.12939
SEQUENCE:3
DTSTAMP:20260424T053646Z
URL:https://members.hayschamber.com/events/details/hyp-connect-committee-meeting-12939
END:VEVENT

END:VCALENDAR
