BEGIN:VCALENDAR
VERSION:2.0
PRODID:-//ChamberMaster//Event Calendar 2.0//EN
METHOD:PUBLISH
X-PUBLISHED-TTL:P3D
REFRESH-INTERVAL:P3D
CALSCALE:GREGORIAN
BEGIN:VEVENT
DTSTART:20200121T180000Z
DTEND:20200121T190000Z
X-MICROSOFT-CDO-ALLDAYEVENT:FALSE
SUMMARY:HYP Connection Lunch
DESCRIPTION:Monthly Hays Young Professionals Connection Lunch. Register online to attend.\n\nProgram: "New Member Social"\n\nPlease bring your business cards with you and wear your name tag!
X-ALT-DESC;FMTTYPE=text/html:<span style="color:black\;">Monthly Hays Young Professionals Connection Lunch. Register online to attend.<br />\nProgram: &quot\;New Member Social&quot\;<br />\nPlease bring your business cards with you and wear your name tag!</span><br />\n&nbsp\;
LOCATION:The Venue at Thirsty's Brew Pub & Grill 2704 Vine St. Suite B Hays\, KS 67601
UID:e.1271.3676
SEQUENCE:3
DTSTAMP:20260420T122420Z
URL:https://members.hayschamber.com/events/details/hyp-connection-lunch-01-21-2020-3676
END:VEVENT

END:VCALENDAR
