BEGIN:VCALENDAR
VERSION:2.0
PRODID:-//ChamberMaster//Event Calendar 2.0//EN
METHOD:PUBLISH
X-PUBLISHED-TTL:P3D
REFRESH-INTERVAL:P3D
CALSCALE:GREGORIAN
BEGIN:VEVENT
DTSTART:20260818T170000Z
DTEND:20260818T180000Z
X-MICROSOFT-CDO-ALLDAYEVENT:FALSE
SUMMARY:HYP Connection Lunch
DESCRIPTION:Sponsor: Vyve Broadband\n\nProgram: 72-hour Emergency Plan\n\nSpeaker:  Lyle Pantle\, Ellis County Emergency Manager\n\nDescription: Preparing individuals and families to be self-sufficient for the first three days after a disaster\, when emergency services may be delayed. It involves having basic supplies\, a communication plan\, and knowing where to go or how to stay safe during emergencies.
X-ALT-DESC;FMTTYPE=text/html:<span style="background-image: initial\; background-position: initial\; background-size: initial\; background-repeat: initial\; background-attachment: initial\; background-origin: initial\; background-clip: initial\;"><span style="font-family: arial\, sans-serif\;"><span style="font-size: 10pt\;"><u><strong>Sponsor</strong></u>: Vyve Broadband</span></span></span><br />\n<span style="font-family: arial\, sans-serif\;"><span style="font-size: 10pt\;"><u><strong>Program</strong></u>: 72-hour Emergency Plan</span></span><br />\n<span style="font-family: arial\, sans-serif\;"><span style="font-size: 10pt\;"><u><strong>Speaker</strong></u>:&nbsp\;&nbsp\;</span></span>Lyle Pantle\, Ellis County Emergency Manager<br />\n<u><strong>Description</strong></u>:&nbsp\;Preparing individuals and families to be self-sufficient for the first three days after a disaster\, when emergency services may be delayed. It involves having basic supplies\, a communication plan\, and knowing where to go or how to stay safe during emergencies.
LOCATION:The Venue\, Thirsty's Brew Pub & Grill 2704 Vine Street
UID:e.1271.12881
SEQUENCE:3
DTSTAMP:20260424T053249Z
URL:https://members.hayschamber.com/events/details/hyp-connection-lunch-12881
END:VEVENT

END:VCALENDAR
