BEGIN:VCALENDAR
VERSION:2.0
PRODID:-//ChamberMaster//Event Calendar 2.0//EN
METHOD:PUBLISH
X-PUBLISHED-TTL:P3D
REFRESH-INTERVAL:P3D
CALSCALE:GREGORIAN
BEGIN:VEVENT
DTSTART:20260915T170000Z
DTEND:20260915T180000Z
X-MICROSOFT-CDO-ALLDAYEVENT:FALSE
SUMMARY:HYP Connection Lunch
DESCRIPTION:Sponsor: Midwest Energy\n\nProgram: TBD\n\nSpeaker:  TBD
X-ALT-DESC;FMTTYPE=text/html:<span style="background-image: initial\; background-position: initial\; background-size: initial\; background-repeat: initial\; background-attachment: initial\; background-origin: initial\; background-clip: initial\;"><span style="font-family: arial\, sans-serif\;"><span style="font-size: 10pt\;"><u><strong>Sponsor</strong></u>: Midwest Energy</span></span></span><br />\n<span style="font-family: arial\, sans-serif\;"><span style="font-size: 10pt\;"><u><strong>Program</strong></u>:&nbsp\;</span></span>TBD<br />\n<span style="font-family: arial\, sans-serif\;"><span style="font-size: 10pt\;"><u><strong>Speaker</strong></u>:&nbsp\; TBD</span></span>
LOCATION:The Venue\, Thirsty's Brew Pub & Grill 2704 Vine Street
UID:e.1271.12882
SEQUENCE:3
DTSTAMP:20260424T042702Z
URL:https://members.hayschamber.com/events/details/hyp-connection-lunch-12882
END:VEVENT

END:VCALENDAR
