BEGIN:VCALENDAR
VERSION:2.0
PRODID:-//ChamberMaster//Event Calendar 2.0//EN
METHOD:PUBLISH
X-PUBLISHED-TTL:P3D
REFRESH-INTERVAL:P3D
CALSCALE:GREGORIAN
BEGIN:VEVENT
DTSTART:20261020T170000Z
DTEND:20261020T180000Z
X-MICROSOFT-CDO-ALLDAYEVENT:FALSE
SUMMARY:HYP Connection Lunch
DESCRIPTION:Sponsor: Vyve Broadband\n\nProgram: All About HYP: Our 2025 in Review\n\nSpeaker:  Nicole Windholz\, HYP Advisory Council Chair\n\n\n\nBring a colleague for FREE to learn more about HYP!
X-ALT-DESC;FMTTYPE=text/html:<span style="background-image: initial\; background-position: initial\; background-size: initial\; background-repeat: initial\; background-attachment: initial\; background-origin: initial\; background-clip: initial\;"><span style="font-family: arial\, sans-serif\;"><span style="font-size: 10pt\;"><u><strong>Sponsor</strong></u>: Vyve Broadband</span></span></span><br />\n<span style="font-family: arial\, sans-serif\;"><span style="font-size: 10pt\;"><u><strong>Program</strong></u>:&nbsp\;</span></span>All About HYP: Our 2025 in Review<br />\n<span style="font-family: arial\, sans-serif\;"><span style="font-size: 10pt\;"><u><strong>Speaker</strong></u>:&nbsp\; </span></span>Nicole Windholz\, HYP Advisory Council Chair<br />\n<br />\nBring a colleague for FREE to learn more about HYP!
LOCATION:The Venue\, Thirsty's Brew Pub & Grill 2704 Vine Street
UID:e.1271.12883
SEQUENCE:3
DTSTAMP:20260424T053251Z
URL:https://members.hayschamber.com/events/details/hyp-connection-lunch-12883
END:VEVENT

END:VCALENDAR
