BEGIN:VCALENDAR
VERSION:2.0
PRODID:-//ChamberMaster//Event Calendar 2.0//EN
METHOD:PUBLISH
X-PUBLISHED-TTL:P3D
REFRESH-INTERVAL:P3D
CALSCALE:GREGORIAN
BEGIN:VEVENT
DTSTART:20260826T170000Z
DTEND:20260826T173000Z
X-MICROSOFT-CDO-ALLDAYEVENT:FALSE
SUMMARY:HYP Develop Committee Meeting
DESCRIPTION:Come join the HYP Develop Committee for their monthly meeting!\n\n\n\nDevelop is committed to guiding young professionals into accomplished leaders by providing events and services that foster essential skills for growth and success. Through targeted programs\, we equip individuals with the tools needed to excel in their careers\, enrich their lives\, and achieve their goals.
X-ALT-DESC;FMTTYPE=text/html:Come join the HYP Develop Committee for their monthly meeting!<br />\n<br />\nDevelop is committed to guiding young professionals into accomplished leaders by providing events and services that foster essential skills for growth and success. Through targeted programs\, we equip individuals with the tools needed to excel in their careers\, enrich their lives\, and achieve their goals.
LOCATION:Virtual Only - please join using this link: http://bit.ly/454Fd6L
UID:e.1271.12891
SEQUENCE:3
DTSTAMP:20260424T052047Z
URL:https://members.hayschamber.com/events/details/hyp-develop-committee-meeting-12891
END:VEVENT

END:VCALENDAR
