BEGIN:VCALENDAR
VERSION:2.0
PRODID:-//ChamberMaster//Event Calendar 2.0//EN
METHOD:PUBLISH
X-PUBLISHED-TTL:P3D
REFRESH-INTERVAL:P3D
CALSCALE:GREGORIAN
BEGIN:VEVENT
DTSTART:20261026T133000Z
DTEND:20261026T210000Z
X-MICROSOFT-CDO-ALLDAYEVENT:FALSE
SUMMARY:HYP - Kansas YP Summit
DESCRIPTION:Save the date!\n\n\n\nThe summit is a day experience designed for young professionals across Kansas who want to make a meaningful impact where they live\, work\, and play. The summit brings together motivated individuals who are eager to grow personally and professionally\, connect with peers from across the state\, and explore new ways to get involved in their communities. Keynote and opening speakers will be announced soon.
X-ALT-DESC;FMTTYPE=text/html:Save the date!<br />\n<br />\nThe summit is a day experience designed for young professionals across Kansas who want to make a meaningful impact where they live\, work\, and play. The summit brings together motivated individuals who are eager to grow personally and professionally\, connect with peers from across the state\, and explore new ways to get involved in their communities. Keynote and opening speakers will be announced soon.
LOCATION:Double-Tree by Hilton Manhattan 530 Richards Dr.\, Manhattan\, KS 66502
UID:e.1271.12947
SEQUENCE:3
DTSTAMP:20260424T053413Z
URL:https://members.hayschamber.com/events/details/hyp-kansas-yp-summit-12947
END:VEVENT

END:VCALENDAR
