BEGIN:VCALENDAR
VERSION:2.0
PRODID:-//ChamberMaster//Event Calendar 2.0//EN
METHOD:PUBLISH
X-PUBLISHED-TTL:P3D
REFRESH-INTERVAL:P3D
CALSCALE:GREGORIAN
BEGIN:VEVENT
DTSTART:20200625T231500Z
DTEND:20200626T011500Z
X-MICROSOFT-CDO-ALLDAYEVENT:FALSE
SUMMARY:HYP Larks Night (Social Hour)
DESCRIPTION:Once a year our Young Professionals group volunteers in the concession stand during the Lark's game. There is a sign up sheet for those who wish to help. Contact hayscc@hayschamber.com.\n\nThis is a perfect more informal way to mingle with our local young professionals group. Whether you are new and want to meet people for the first time or this is the preferred time of day that works with your schedule - it is come and go as you please and all are welcome. No RSVP needed!
X-ALT-DESC;FMTTYPE=text/html:<p>Once a year our Young Professionals group volunteers in the concession stand during the Lark&#39\;s game. There is a sign up sheet for those who wish to help. Contact hayscc@hayschamber.com.</p>\n\n<p>This is a perfect more informal way to mingle with our local young professionals group. Whether you are new and want to meet people for the first time or this is the preferred time of day that works with your schedule - it is come and go as you please and all are welcome. No RSVP needed!&nbsp\;</p>\n
LOCATION:Varies month to month. This month: Lark's Park 4th & Oak\, Hays\, KS 67601
UID:e.1271.10566
SEQUENCE:3
DTSTAMP:20260419T174538Z
URL:https://members.hayschamber.com/events/details/hyp-larks-night-social-hour-10566
END:VEVENT

END:VCALENDAR
