BEGIN:VCALENDAR
VERSION:2.0
PRODID:-//ChamberMaster//Event Calendar 2.0//EN
METHOD:PUBLISH
X-PUBLISHED-TTL:P3D
REFRESH-INTERVAL:P3D
CALSCALE:GREGORIAN
BEGIN:VEVENT
DTSTART:20200310T170000Z
DTEND:20200310T180000Z
X-MICROSOFT-CDO-ALLDAYEVENT:FALSE
SUMMARY:HYP Lunch With Leaders
DESCRIPTION:Lunch with Leaders is an intimate opportunity to get some one on one time with one of the communities most involved members. The guest speakers vary each time. This is limited to five spots to enhance conversation abilities. Please RSVP to committee chair Kaiti Dinges\, kdinges@janascampaign.org.\n\nMarch's guest: Steve Riat\, Nex-Tech
X-ALT-DESC;FMTTYPE=text/html:Lunch with Leaders is an intimate opportunity to get some one on one time with one of the communities most involved members. The guest speakers vary each time. This is limited to five spots to enhance conversation abilities. Please RSVP to committee chair Kaiti Dinges\, kdinges@janascampaign.org.<br />\nMarch&#39\;s guest: Steve Riat\, Nex-Tech
LOCATION:Gutch's 111 W. 7th St. Hays\, KS 67601
UID:e.1271.10602
SEQUENCE:3
DTSTAMP:20260420T093155Z
URL:https://members.hayschamber.com/events/details/hyp-lunch-with-leaders-10602
END:VEVENT

END:VCALENDAR
