BEGIN:VCALENDAR
VERSION:2.0
PRODID:-//ChamberMaster//Event Calendar 2.0//EN
METHOD:PUBLISH
X-PUBLISHED-TTL:P3D
REFRESH-INTERVAL:P3D
CALSCALE:GREGORIAN
BEGIN:VEVENT
DTSTART:20200729T170000Z
DTEND:20200729T180000Z
X-MICROSOFT-CDO-ALLDAYEVENT:FALSE
SUMMARY:HYP Membership Development Committee
DESCRIPTION:This team creates unique and engaging professional and personal development opportunities to cultivate an array of leaders who excel in their careers and prosper in their community. \n\nThis committee meets monthly\, on the last Wednesday of the month\, from noon   1:00p.m. at Paisley Pear (1100 Main St.) and is hosted by the committee chair\, Kaiti Dinges.
X-ALT-DESC;FMTTYPE=text/html:<span style="font-size:12px\;"><span style="font-size:14px\;"><span style="font-family:verdana\,sans-serif\;">This team creates unique and engaging professional and personal development opportunities to cultivate an array of leaders who excel in their careers and prosper in their community.&nbsp\;</span><br />\nThis committee meets monthly\, on the last Wednesday of the month\, from noon &ndash\; 1:00p.m. at </span></span><span style="font-size: 14px\;">Paisley Pear (1100 Main St.</span><span style="font-size: 14px\;">)</span><span style="font-size:12px\;"><span style="font-size:14px\;">&nbsp\;and is hosted by the committee chair\, Kaiti Dinges. </span></span><br />\n&nbsp\;
LOCATION:Paisley Pear Wine Bar\, Bistro & Market 1100 Main Hays\, KS 67601
UID:e.1271.10436
SEQUENCE:3
DTSTAMP:20260419T143042Z
URL:https://members.hayschamber.com/events/details/hyp-membership-development-committee-07-29-2020-10436
END:VEVENT

END:VCALENDAR
