BEGIN:VCALENDAR
VERSION:2.0
PRODID:-//ChamberMaster//Event Calendar 2.0//EN
METHOD:PUBLISH
X-PUBLISHED-TTL:P3D
REFRESH-INTERVAL:P3D
CALSCALE:GREGORIAN
BEGIN:VEVENT
DTSTART:20200129T180000Z
DTEND:20200129T190000Z
X-MICROSOFT-CDO-ALLDAYEVENT:FALSE
SUMMARY:HYP Membership Development Committee
DESCRIPTION:This team creates unique and engaging professional and personal development opportunities to cultivate an array of leaders who excel in their careers and prosper in their community.
X-ALT-DESC;FMTTYPE=text/html:<span style="font-family:verdana\,sans-serif\;">This team creates unique and engaging professional and personal development opportunities to cultivate an array of leaders who excel in their careers and prosper in their community.&nbsp\;</span><br />\n&nbsp\;
LOCATION:Professor's Sandwich Shop 521 E. 11th St.
UID:e.1271.6032
SEQUENCE:3
DTSTAMP:20260420T104052Z
URL:https://members.hayschamber.com/events/details/hyp-membership-development-committee-6032
END:VEVENT

END:VCALENDAR
