BEGIN:VCALENDAR
VERSION:2.0
PRODID:-//ChamberMaster//Event Calendar 2.0//EN
METHOD:PUBLISH
X-PUBLISHED-TTL:P3D
REFRESH-INTERVAL:P3D
CALSCALE:GREGORIAN
BEGIN:VEVENT
DTSTART:20200309T170000Z
DTEND:20200309T180000Z
X-MICROSOFT-CDO-ALLDAYEVENT:FALSE
SUMMARY:HYP Membership Development Committee - February Make-up
DESCRIPTION:This team creates unique and engaging professional and personal development opportunities to cultivate an array of leaders who excel in their careers and prosper in their community. \n\nThis committee meets monthly\, on the last Wednesday of the month\, from noon   1:00p.m. at The Press (230 E. 8th St.) and is hosted by the committee chair\, Kaiti Dinges.
X-ALT-DESC;FMTTYPE=text/html:<span style="font-size:12px\;"><span style="font-size:14px\;"><span style="font-family:verdana\,sans-serif\;">This team creates unique and engaging professional and personal development opportunities to cultivate an array of leaders who excel in their careers and prosper in their community.&nbsp\;</span><br />\nThis committee meets monthly\, on the last Wednesday of the month\, from noon &ndash\; 1:00p.m. at The Press (230 E. 8<sup>th</sup> St.) and is hosted by the committee chair\, Kaiti Dinges. </span></span><br />\n&nbsp\;
LOCATION:The Press 230 E. 8th St.\, Hays\, KS 67601
UID:e.1271.10605
SEQUENCE:3
DTSTAMP:20260420T095359Z
URL:https://members.hayschamber.com/events/details/hyp-membership-development-committee-february-make-up-10605
END:VEVENT

END:VCALENDAR
