BEGIN:VCALENDAR
VERSION:2.0
PRODID:-//ChamberMaster//Event Calendar 2.0//EN
METHOD:PUBLISH
X-PUBLISHED-TTL:P3D
REFRESH-INTERVAL:P3D
CALSCALE:GREGORIAN
BEGIN:VEVENT
DTSTART:20200218T180000Z
DTEND:20200218T190000Z
X-MICROSOFT-CDO-ALLDAYEVENT:FALSE
SUMMARY:HYP Q1 Lunch
DESCRIPTION:Hays Young Professionals gather for a short briefing on Advisory Council and Chamber updates. Then hear from intentional speakers on various topics important to our county.\n\nProgram: Teresa Greenwood\, Court Services Director - Ellis County Drug Court
X-ALT-DESC;FMTTYPE=text/html:Hays Young Professionals gather for a short briefing on Advisory Council and Chamber updates. Then hear from intentional speakers on various topics important to our county.<br />\nProgram: Teresa Greenwood\, Court Services Director - Ellis County Drug Court
LOCATION:The Venue at Thirsty's 2704 Vine St. Suite B Hays\, KS 67601
UID:e.1271.10419
SEQUENCE:3
DTSTAMP:20260420T104459Z
URL:https://members.hayschamber.com/events/details/hyp-q1-lunch-10419
END:VEVENT

END:VCALENDAR
