BEGIN:VCALENDAR
VERSION:2.0
PRODID:-//ChamberMaster//Event Calendar 2.0//EN
METHOD:PUBLISH
X-PUBLISHED-TTL:P3D
REFRESH-INTERVAL:P3D
CALSCALE:GREGORIAN
BEGIN:VEVENT
DTSTART:20260507T170000Z
DTEND:20260507T180000Z
X-MICROSOFT-CDO-ALLDAYEVENT:FALSE
SUMMARY:HYP Quarterly New Member Orientation
DESCRIPTION:Calling all new HYP members!\n\nYou've got questions about your new membership\, and we've got answers. We invite you to join us for an informational event to learn more about:\n\n	Committees (Connect\, Develop\, Impact)\n	\n		When do they meet and what do they do?\n	\n	\n	HYP events\n	\n		Socials\, monthly Connection Lunches\, Lunch with Leaders\, Leadership over Lattes\, volunteer opportunities\, and more!\n	\n	\n	Leadership opportunities\n	Professional development scholarships/KLC Leadership Transformation grant\n	And more!\n\nAll first-time attendees will leave with a coupon for a free membership lunch!
X-ALT-DESC;FMTTYPE=text/html:Calling all new HYP members!<br />\nYou&#39\;ve got questions about your new membership\, and we&#39\;ve got answers. We invite you to join us for an informational event to learn more about:\n<ul>\n	<li>Committees (Connect\, Develop\, Impact)\n	<ul>\n		<li>When do they meet and what do they do?</li>\n	</ul>\n	</li>\n	<li>HYP events\n	<ul>\n		<li>Socials\, monthly Connection Lunches\, Lunch with Leaders\, Leadership over Lattes\, volunteer opportunities\, and more!</li>\n	</ul>\n	</li>\n	<li>Leadership opportunities</li>\n	<li>Professional development scholarships/KLC Leadership Transformation grant</li>\n	<li>And more!</li>\n</ul>\nAll first-time attendees will leave with a coupon for a free membership lunch!
LOCATION:Hays Welcome Center 2700 Vine St.\, Hays
UID:e.1271.12950
SEQUENCE:3
DTSTAMP:20260423T171853Z
URL:https://members.hayschamber.com/events/details/hyp-quarterly-new-member-orientation-12950
END:VEVENT

END:VCALENDAR
