BEGIN:VCALENDAR
VERSION:2.0
PRODID:-//ChamberMaster//Event Calendar 2.0//EN
METHOD:PUBLISH
X-PUBLISHED-TTL:P3D
REFRESH-INTERVAL:P3D
CALSCALE:GREGORIAN
BEGIN:VEVENT
DTSTART:20260806T210000Z
DTEND:20260806T220000Z
X-MICROSOFT-CDO-ALLDAYEVENT:FALSE
SUMMARY:HYP Quarterly New Member Orientation / Prospective Advisory Council & Leadership Meeting
DESCRIPTION:Calling all new HYP members! You've got questions about your new membership\, and we've got answers. We invite you to join us for an informational event to learn more about:\n\n	Committees (Connect\, Develop\, Impact) - When do they meet and what do they do? What are their leadership opportunities?\n	HYP events - First Thursday socials\, monthly Connection Lunches\, Lunch with Leaders\, Leadership over Lattes\, volunteer opportunities\, and more!\n	In addition to professional development scholarships/KLC Leadership Transformation grant\, and more!\n\n\n\nAlso\, we will have several openings to fill on the Advisory Council\, and invite anyone who is curious about learning more about serving!
X-ALT-DESC;FMTTYPE=text/html:Calling all new HYP members! You&#39\;ve got questions about your new membership\, and we&#39\;ve got answers. We invite you to join us for an informational event to learn more about:\n<ul>\n	<li>Committees (Connect\, Develop\, Impact) - When do they meet and what do they do? What are their leadership opportunities?</li>\n	<li>HYP events - First Thursday socials\, monthly Connection Lunches\, Lunch with Leaders\, Leadership over Lattes\, volunteer opportunities\, and more!</li>\n	<li>In addition to professional development scholarships/KLC Leadership Transformation grant\, and more!</li>\n</ul>\n<br />\nAlso\, we will have several openings to fill on the Advisory Council\, and invite anyone who is curious about learning more about serving!
LOCATION:Welcome Center 2700 Vine St.\, Hays
UID:e.1271.12949
SEQUENCE:3
DTSTAMP:20260424T061330Z
URL:https://members.hayschamber.com/events/details/hyp-quarterly-new-member-orientation-prospective-advisory-council-leadership-meeting-12949
END:VEVENT

END:VCALENDAR
