BEGIN:VCALENDAR
VERSION:2.0
PRODID:-//ChamberMaster//Event Calendar 2.0//EN
METHOD:PUBLISH
X-PUBLISHED-TTL:P3D
REFRESH-INTERVAL:P3D
CALSCALE:GREGORIAN
BEGIN:VEVENT
DTSTART:20200723T221500Z
DTEND:20200724T001500Z
X-MICROSOFT-CDO-ALLDAYEVENT:FALSE
SUMMARY:HYP Social Hour
DESCRIPTION:This is a perfect more informal way to mingle with our local young professionals group. Whether you are new and want to meet people for the first time or this is the preferred time of day that works with your schedule - it is come and go as you please and all are welcome. No RSVP needed!
X-ALT-DESC;FMTTYPE=text/html:This is a perfect more informal way to mingle with our local young professionals group. Whether you are new and want to meet people for the first time or this is the preferred time of day that works with your schedule - it is come and go as you please and all are welcome. No RSVP needed!
LOCATION:Varies month to month. This month: Old Chicago 383 W. Mopar Dr.
UID:e.1271.10567
SEQUENCE:3
DTSTAMP:20260419T143244Z
URL:https://members.hayschamber.com/events/details/hyp-social-hour-07-28-2020-10567
END:VEVENT

END:VCALENDAR
