BEGIN:VCALENDAR
VERSION:2.0
PRODID:-//ChamberMaster//Event Calendar 2.0//EN
METHOD:PUBLISH
X-PUBLISHED-TTL:P3D
REFRESH-INTERVAL:P3D
CALSCALE:GREGORIAN
BEGIN:VEVENT
DTSTART:20170925T223000Z
DTEND:20170925T233000Z
X-MICROSOFT-CDO-ALLDAYEVENT:FALSE
SUMMARY:Informational Preview of Spain Session
DESCRIPTION:This will be a preview of the trip tp Spain and details of the cost.\n\nHays 2018 Spain Presentation - 5:30 PM CST \n\nMon\, Sep 25\, 2017 5:30 PM - 7:00 PM CDT \n\n\n\nPlease join my meeting from your computer\, tablet or smartphone. \n\nhttps://global.gotomeeting.com/join/759361645 \n\n\n\nYou can also dial in using your phone. \n\nUnited States: +1 (872) 240-3311 \n\n\n\nAccess Code: 759-361-645 \n\n\n\nJoining from a video-conferencing room or system? \n\nDial: 67.217.95.2##759361645\n\nCisco devices: 759361645@67.217.95.2\n\n\n\nFirst GoToMeeting? Try a test session: https://care.citrixonline.com/g2m/getready
X-ALT-DESC;FMTTYPE=text/html:This will be a preview of the trip tp Spain and details of the cost.<br />\n<strong><span style="color:#39404D\;"><span style="font-family:helvetica\,sans-serif\;"><span style="font-size:13.5pt\;">Hays 2018 Spain Presentation - 5:30 PM CST </span></span></span></strong><br />\n<span style="color:#475163\;"><span style="font-family:helvetica\,sans-serif\;"><span style="font-size:10.5pt\;">Mon\, Sep 25\, 2017 5:30 PM - 7:00 PM CDT </span></span></span><br />\n<br />\n<strong><span style="color:#39404D\;"><span style="font-family:helvetica\,sans-serif\;"><span style="font-size:10.5pt\;">Please join my meeting from your computer\, tablet or smartphone. </span></span></span></strong><br />\n<span style="color:#475163\;"><span style="font-family:helvetica\,sans-serif\;"><span style="font-size:10.5pt\;"><a href="https://global.gotomeeting.com/join/759361645" target="_blank"><span style="color:blue\;">https://global.gotomeeting.com/join/759361645 </span></a></span></span></span><br />\n<br />\n<strong><span style="color:#39404D\;"><span style="font-family:helvetica\,sans-serif\;"><span style="font-size:10.5pt\;">You can also dial in using your phone. </span></span></span></strong><br />\n<span style="color:#475163\;"><span style="font-family:helvetica\,sans-serif\;"><span style="font-size:10.5pt\;">United States: +1 (872) 240-3311 </span></span></span><br />\n<br />\n<strong><span style="color:#39404D\;"><span style="font-family:helvetica\,sans-serif\;"><span style="font-size:10.5pt\;">Access Code: 759-361-645 </span></span></span></strong><br />\n<br />\n<strong><span style="color:#39404D\;"><span style="font-family:helvetica\,sans-serif\;"><span style="font-size:10.5pt\;">Joining from a video-conferencing room or system? </span></span></span></strong><br />\n<span style="color:#475163\;"><span style="font-family:helvetica\,sans-serif\;"><span style="font-size:10.5pt\;">Dial: 67.217.95.2##759361645<br />\nCisco devices: <a href="mailto:759361645@67.217.95.2">759361645@67.217.95.2</a><br />\n<br />\nFirst GoToMeeting? Try a test session: <a href="https://care.citrixonline.com/g2m/getready" target="_blank"><span style="color:blue\;">https://care.citrixonline.com/g2m/getready</span></a> </span></span></span><br />\n&nbsp\;<br />\n&nbsp\;
LOCATION:Welcome Center 2700 Vine St.
UID:e.1271.7625
SEQUENCE:3
DTSTAMP:20260425T024036Z
URL:https://members.hayschamber.com/events/details/informational-preview-of-spain-session-7625
END:VEVENT

END:VCALENDAR
