BEGIN:VCALENDAR
VERSION:2.0
PRODID:-//ChamberMaster//Event Calendar 2.0//EN
METHOD:PUBLISH
X-PUBLISHED-TTL:P3D
REFRESH-INTERVAL:P3D
CALSCALE:GREGORIAN
BEGIN:VEVENT
DTSTART:20190814T200000Z
DTEND:20190814T220000Z
X-MICROSOFT-CDO-ALLDAYEVENT:FALSE
SUMMARY:Informational Session for HACC Board of Directors
DESCRIPTION:Join us for a come and go informational session and learn what it means to be a member of the Hays Area Chamber of Commerce Board of Directors. If you are not able to attend this session but would like more information\, please contact us at hayscc@discoverhays.com and we would gladly share more details!
X-ALT-DESC;FMTTYPE=text/html:Join us for a come and go informational session and learn what it means to be a member of the Hays Area Chamber of Commerce Board of Directors. If you are not able to attend this session but would like more information\, please contact us at hayscc@discoverhays.com and we would gladly share more details!
LOCATION:2700 Vine St.
UID:e.1271.10286
SEQUENCE:3
DTSTAMP:20260422T032048Z
URL:https://members.hayschamber.com/events/details/informational-session-for-hacc-board-of-directors-10286
END:VEVENT

END:VCALENDAR
