BEGIN:VCALENDAR
VERSION:2.0
PRODID:-//ChamberMaster//Event Calendar 2.0//EN
METHOD:PUBLISH
X-PUBLISHED-TTL:P3D
REFRESH-INTERVAL:P3D
CALSCALE:GREGORIAN
BEGIN:VEVENT
DTSTART:20200409T150000Z
DTEND:20200409T160000Z
X-MICROSOFT-CDO-ALLDAYEVENT:FALSE
SUMMARY:Kansas Dept. of Commerce COVID-19 Q&A
DESCRIPTION:Representative Barb Wasinger\, The Chamber\, and Grow Hays are pleased to co-host the Kansas Department of Commerce COVID-19 Q&A on Thursday\, April 9th at 10:00 a.m. David Toland\, Secretary of the Kansas Department of Commerce\, will lead the discussion via Skype. If your business has questions you would like addressed during the Q&A\, please send them to hayscc@hayschamber.com no later than 4:00 p.m. on Wednesday\, April 8th. The Q&A will last approximately 30 minutes and will include some extra time at the end for additional questions.\n\n\n\nUse the following link to join the call at 10:00 a.m. https://meet.lync.com/sokansas-kdc/david.toland/SN5T72WZ or call 785-414-8630 and use reference # 265787659 to join the call. The conference ID is 265787659.
X-ALT-DESC;FMTTYPE=text/html:<span data-offset-key="atq21-0-0" style="font-family: Helvetica\, Arial\, sans-serif\; color: rgb(28\, 30\, 33)\; font-size: 12px\; white-space: pre-wrap\;"><span data-text="true" style="font-family: inherit\;">Representative Barb Wasinger\, </span></span><span data-offset-key="atq21-2-0" style="font-family: Helvetica\, Arial\, sans-serif\; color: rgb(28\, 30\, 33)\; font-size: 12px\; white-space: pre-wrap\;"><span data-text="true" style="font-family: inherit\;">The Chamber\, and Grow Hays</span></span><span data-offset-key="atq21-4-0" style="font-family: Helvetica\, Arial\, sans-serif\; color: rgb(28\, 30\, 33)\; font-size: 12px\; white-space: pre-wrap\;"><span data-text="true" style="font-family: inherit\;"> are pleased to co-host the Kansas Department of Commerce</span></span><span data-offset-key="atq21-6-0" style="font-family: Helvetica\, Arial\, sans-serif\; color: rgb(28\, 30\, 33)\; font-size: 12px\; white-space: pre-wrap\;"><span data-text="true" style="font-family: inherit\;"> COVID-19 Q&amp\;A on Thursday\, April 9th at 10:00 a.m. David Toland\, Secretary of the Kansas Department of Commerce\, will lead the discussion via Skype. If your business has questions you would like addressed during the Q&amp\;A\, please send them to hayscc@hayschamber.com no later than 4:00 p.m. on Wednesday\, April 8th. The Q&amp\;A will last approximately 30 minutes and will include some extra time at the end for additional questions.</span></span><br />\n<br />\n<span style="color: rgb(28\, 30\, 33)\; font-family: Helvetica\, Arial\, sans-serif\; font-size: 12px\; white-space: pre-wrap\;">Use the following link to join the call at 10:00 a.m. https://meet.lync.com/sokansas-kdc/david.toland/SN5T72WZ or call 785-414-8630 and use reference # 265787659 to join the call. The conference ID is 265787659.</span>
LOCATION:Use the following link to join the call at 10:00 a.m. via SKYPE: https://meet.lync.com/sokansas-kdc/david.toland/SN5T72WZ or call 785-414-8630 and use reference # 265787659 to join the call. The conference ID is 265787659.
UID:e.1271.10618
SEQUENCE:3
DTSTAMP:20260419T224439Z
URL:https://members.hayschamber.com/events/details/kansas-dept-of-commerce-covid-19-q-a-10618
END:VEVENT

END:VCALENDAR
