BEGIN:VCALENDAR
VERSION:2.0
PRODID:-//ChamberMaster//Event Calendar 2.0//EN
METHOD:PUBLISH
X-PUBLISHED-TTL:P3D
REFRESH-INTERVAL:P3D
CALSCALE:GREGORIAN
BEGIN:VEVENT
DTSTART;VALUE=DATE:20180403
DTEND;VALUE=DATE:20180406
TRANSP:TRANSPARENT
X-MICROSOFT-CDO-ALLDAYEVENT:TRUE
SUMMARY:Kansas Leadership Center
DESCRIPTION:
X-ALT-DESC;FMTTYPE=text/html:
LOCATION:Wichita\, KS
UID:e.1271.8693
SEQUENCE:3
DTSTAMP:20260424T043136Z
URL:https://members.hayschamber.com/events/details/kansas-leadership-center-8693
END:VEVENT

END:VCALENDAR
