BEGIN:VCALENDAR
VERSION:2.0
PRODID:-//ChamberMaster//Event Calendar 2.0//EN
METHOD:PUBLISH
X-PUBLISHED-TTL:P3D
REFRESH-INTERVAL:P3D
CALSCALE:GREGORIAN
BEGIN:VEVENT
DTSTART:20170228T180000Z
DTEND:20170228T190000Z
X-MICROSOFT-CDO-ALLDAYEVENT:FALSE
SUMMARY:Konza Cocktails & Concepts
DESCRIPTION:
X-ALT-DESC;FMTTYPE=text/html:
LOCATION:Hays Public Library
UID:e.1271.6137
SEQUENCE:3
DTSTAMP:20260426T014049Z
URL:https://members.hayschamber.com/events/details/konza-cocktails-concepts-6137
END:VEVENT

END:VCALENDAR
