BEGIN:VCALENDAR
VERSION:2.0
PRODID:-//ChamberMaster//Event Calendar 2.0//EN
METHOD:PUBLISH
X-PUBLISHED-TTL:P3D
REFRESH-INTERVAL:P3D
CALSCALE:GREGORIAN
BEGIN:VEVENT
DTSTART:20170808T230000Z
DTEND:20170809T000000Z
X-MICROSOFT-CDO-ALLDAYEVENT:FALSE
SUMMARY:Konza Cocktails & Concepts
DESCRIPTION:Join us as we discuss gender stereotypes and other implicit biases we are forced to navigate in the workplace.
X-ALT-DESC;FMTTYPE=text/html:<p align="center" style="text-align:center"><i><span style="font-size:11.0pt\;\nfont-family:&quot\;Arial&quot\;\,sans-serif\;color:black">Join us as we discuss gender stereotypes and other implicit biases we are forced to navigate in the workplace.</span></i><span style="font-size:11.0pt\;font-family:&quot\;Calibri&quot\;\,sans-serif\;\ncolor:black"><o:p></o:p></span></p>\n
LOCATION:Jalisco's 2520 Vine St.
UID:e.1271.7616
SEQUENCE:3
DTSTAMP:20260425T035207Z
URL:https://members.hayschamber.com/events/details/konza-cocktails-concepts-7616
END:VEVENT

END:VCALENDAR
