BEGIN:VCALENDAR
VERSION:2.0
PRODID:-//ChamberMaster//Event Calendar 2.0//EN
METHOD:PUBLISH
X-PUBLISHED-TTL:P3D
REFRESH-INTERVAL:P3D
CALSCALE:GREGORIAN
BEGIN:VEVENT
DTSTART:20200103T173000Z
DTEND:20200103T174000Z
X-MICROSOFT-CDO-ALLDAYEVENT:FALSE
SUMMARY:Leadership Hays Applications Due
DESCRIPTION:You can find the application for the 2020 Leadership Hays class at this link: http://discoverhays.com/Portals/0/Leadership%20Hays%20Application_Editable.pdf
X-ALT-DESC;FMTTYPE=text/html:You can find the application for the 2020 Leadership Hays class at this link: http://discoverhays.com/Portals/0/Leadership%20Hays%20Application_Editable.pdf
LOCATION:Welcome Center (2700 Vine St.) Kansas Leadership Center\, Wichita
UID:e.1271.10365
SEQUENCE:3
DTSTAMP:20260420T111100Z
URL:https://members.hayschamber.com/events/details/leadership-hays-applications-due-10365
END:VEVENT

END:VCALENDAR
