BEGIN:VCALENDAR
VERSION:2.0
PRODID:-//ChamberMaster//Event Calendar 2.0//EN
METHOD:PUBLISH
X-PUBLISHED-TTL:P3D
REFRESH-INTERVAL:P3D
CALSCALE:GREGORIAN
BEGIN:VEVENT
DTSTART:20260604T230000Z
DTEND:20260605T010000Z
X-MICROSOFT-CDO-ALLDAYEVENT:FALSE
SUMMARY:Leadership Hays Project- Kids Wellness Fair
DESCRIPTION:
X-ALT-DESC;FMTTYPE=text/html:
LOCATION:ARC Park 33rd & Hillcrest Dr. Hays Kansas 67601
UID:e.1271.12965
SEQUENCE:3
DTSTAMP:20260422T215334Z
URL:https://members.hayschamber.com/events/details/leadership-hays-project-kids-wellness-fair-12965
END:VEVENT

END:VCALENDAR
