BEGIN:VCALENDAR
VERSION:2.0
PRODID:-//ChamberMaster//Event Calendar 2.0//EN
METHOD:PUBLISH
X-PUBLISHED-TTL:P3D
REFRESH-INTERVAL:P3D
CALSCALE:GREGORIAN
BEGIN:VEVENT
DTSTART:20190605T123000Z
DTEND:20190605T133000Z
X-MICROSOFT-CDO-ALLDAYEVENT:FALSE
SUMMARY:Leadership Over Lattes
DESCRIPTION:Guest: Shaun Musil - Paisley Pear/Hays City Commissioner
X-ALT-DESC;FMTTYPE=text/html:Guest: Shaun Musil - Paisley Pear/Hays City Commissioner
LOCATION:Breathe Coffee House 703 B Main St.
UID:e.1271.10233
SEQUENCE:3
DTSTAMP:20260422T062104Z
URL:https://members.hayschamber.com/events/details/leadership-over-lattes-10233
END:VEVENT

END:VCALENDAR
