BEGIN:VCALENDAR
VERSION:2.0
PRODID:-//ChamberMaster//Event Calendar 2.0//EN
METHOD:PUBLISH
X-PUBLISHED-TTL:P3D
REFRESH-INTERVAL:P3D
CALSCALE:GREGORIAN
BEGIN:VEVENT
DTSTART:20170706T123000Z
DTEND:20170706T133000Z
X-MICROSOFT-CDO-ALLDAYEVENT:FALSE
SUMMARY:Leadership Over Lattes
DESCRIPTION:Speaker: Tatum Kimzey with Historic Fort Hays
X-ALT-DESC;FMTTYPE=text/html:Speaker: Tatum Kimzey with Historic Fort Hays
LOCATION:Breathe Coffee House 703 B. Main St.
UID:e.1271.7606
SEQUENCE:3
DTSTAMP:20260425T124043Z
URL:https://members.hayschamber.com/events/details/leadership-over-lattes-7606
END:VEVENT

END:VCALENDAR
