BEGIN:VCALENDAR
VERSION:2.0
PRODID:-//ChamberMaster//Event Calendar 2.0//EN
METHOD:PUBLISH
X-PUBLISHED-TTL:P3D
REFRESH-INTERVAL:P3D
CALSCALE:GREGORIAN
BEGIN:VEVENT
DTSTART:20180605T123000Z
DTEND:20180605T133000Z
X-MICROSOFT-CDO-ALLDAYEVENT:FALSE
SUMMARY:Leadership Over Lattes
DESCRIPTION:Guest Philip Kuhn\, Director of Clarity Consulting and owner of The Press
X-ALT-DESC;FMTTYPE=text/html:<span style="font-family:calibri\,sans-serif\;"><span style="font-size:11.0pt\;">Guest Philip Kuhn\, Director of Clarity Consulting and owner of The Press</span></span>
LOCATION:Breathe Coffee House No RSVP required
UID:e.1271.9830
SEQUENCE:3
DTSTAMP:20260424T052057Z
URL:https://members.hayschamber.com/events/details/leadership-over-lattes-9830
END:VEVENT

END:VCALENDAR
