BEGIN:VCALENDAR
VERSION:2.0
PRODID:-//ChamberMaster//Event Calendar 2.0//EN
METHOD:PUBLISH
X-PUBLISHED-TTL:P3D
REFRESH-INTERVAL:P3D
CALSCALE:GREGORIAN
BEGIN:VEVENT
DTSTART:20180712T123000Z
DTEND:20180712T133000Z
X-MICROSOFT-CDO-ALLDAYEVENT:FALSE
SUMMARY:Leadership Over Lattes
DESCRIPTION:Anissa Pfeifer (Mrs. Kansas) and Sonia Larcom\, co-owners of The Blue Heron Boutique\, will be the guest speakers.
X-ALT-DESC;FMTTYPE=text/html:<div style="margin-top:0in\;margin-right:0in\;margin-bottom:0in\;margin-bottom:.0001pt\;"><span style="font-size:12px\;">Anissa Pfeifer (Mrs. Kansas) and Sonia <span style="font-family:calibri\,sans-serif\;">Larcom\, co-owners of The Blue Heron Boutique\, will be the guest speakers.</span></span></div>\n
LOCATION:Beathe 104 B Main St.
UID:e.1271.9844
SEQUENCE:3
DTSTAMP:20260423T211123Z
URL:https://members.hayschamber.com/events/details/leadership-over-lattes-9844
END:VEVENT

END:VCALENDAR
