BEGIN:VCALENDAR
VERSION:2.0
PRODID:-//ChamberMaster//Event Calendar 2.0//EN
METHOD:PUBLISH
X-PUBLISHED-TTL:P3D
REFRESH-INTERVAL:P3D
CALSCALE:GREGORIAN
BEGIN:VEVENT
DTSTART:20190406T133000Z
DTEND:20190406T153000Z
X-MICROSOFT-CDO-ALLDAYEVENT:FALSE
SUMMARY:Legislative Coffee
DESCRIPTION:Help us welcome our Kansas Legislature\n\nCongressman Roger Marshall\n\nSen. Rick Billinger\n\nRep. Barbara Wasinger\n\nRep. Ken Rahjes\n\nRep. Leonard Mastroni\n\n\n\nLight pastries and beverages will be provided.
X-ALT-DESC;FMTTYPE=text/html:Help us welcome our Kansas Legislature<br />\nCongressman Roger Marshall<br />\nSen. Rick Billinger<br />\nRep. Barbara Wasinger<br />\nRep. Ken Rahjes<br />\nRep. Leonard Mastroni<br />\n<br />\nLight pastries and beverages will be provided.
LOCATION:FHSU Memorial Union Stouffer Lounge - 2nd Floor
UID:e.1271.10201
SEQUENCE:3
DTSTAMP:20260422T193714Z
URL:https://members.hayschamber.com/events/details/legislative-coffee-10201
END:VEVENT

END:VCALENDAR
