BEGIN:VCALENDAR
VERSION:2.0
PRODID:-//ChamberMaster//Event Calendar 2.0//EN
METHOD:PUBLISH
X-PUBLISHED-TTL:P3D
REFRESH-INTERVAL:P3D
CALSCALE:GREGORIAN
BEGIN:VEVENT
DTSTART:20200208T133000Z
DTEND:20200208T150000Z
X-MICROSOFT-CDO-ALLDAYEVENT:FALSE
SUMMARY:Legislative Coffee
DESCRIPTION:Join us for a chance to hear an update from our area's legislators. Attendees will have the opportunity to address questions to individual legislators or the panel at large. Thank you to our legislative sponsors AT&T and Midwest Energy for making this program possible!
X-ALT-DESC;FMTTYPE=text/html:Join us for a chance to hear an update from our area&#39\;s legislators. Attendees will have the opportunity to address questions to individual legislators or the panel at large. Thank you to our legislative sponsors AT&amp\;T and Midwest Energy for making this program possible!
LOCATION:FHSU Memorial Union Ballroom - Upstairs 600 Park St. Hays\, KS 67601
UID:e.1271.10398
SEQUENCE:3
DTSTAMP:20260420T011920Z
URL:https://members.hayschamber.com/events/details/legislative-coffee-10398
END:VEVENT

END:VCALENDAR
