BEGIN:VCALENDAR
VERSION:2.0
PRODID:-//ChamberMaster//Event Calendar 2.0//EN
METHOD:PUBLISH
X-PUBLISHED-TTL:P3D
REFRESH-INTERVAL:P3D
CALSCALE:GREGORIAN
BEGIN:VEVENT
DTSTART:20180407T133000Z
DTEND:20180407T160000Z
X-MICROSOFT-CDO-ALLDAYEVENT:FALSE
SUMMARY:Legislative Coffee: CANCELED
DESCRIPTION:This event has been canceled\, the legislatures will be in session! \n\nDoors open at 8 a.m. but the program will start at 8:30 a.m.
X-ALT-DESC;FMTTYPE=text/html:<strong>This event has been canceled\, the legislatures will be in session! </strong><br />\nDoors open at 8 a.m. but the program will start at 8:30 a.m.&nbsp\;
LOCATION:Robbins Center FHSU
UID:e.1271.8778
SEQUENCE:3
DTSTAMP:20260424T042832Z
URL:https://members.hayschamber.com/events/details/legislative-coffee-canceled-8778
END:VEVENT

END:VCALENDAR
