BEGIN:VCALENDAR
VERSION:2.0
PRODID:-//ChamberMaster//Event Calendar 2.0//EN
METHOD:PUBLISH
X-PUBLISHED-TTL:P3D
REFRESH-INTERVAL:P3D
CALSCALE:GREGORIAN
BEGIN:VEVENT
DTSTART:20180421T130000Z
DTEND:20180421T150000Z
X-MICROSOFT-CDO-ALLDAYEVENT:FALSE
SUMMARY:Legislative Coffee: Reschedule Date
DESCRIPTION:Have coffee and ask questions of those representing us at the Capitol. No RSVP needed. These are held in the Spring as long as they are not in session in Topeka.
X-ALT-DESC;FMTTYPE=text/html:Have coffee and ask questions of those representing us at the Capitol. No RSVP needed. These are held in the Spring as long as they are not in session in Topeka.
LOCATION:Robbins Center FHSU
UID:e.1271.9806
SEQUENCE:3
DTSTAMP:20260424T042752Z
URL:https://members.hayschamber.com/events/details/legislative-coffee-reschedule-date-9806
END:VEVENT

END:VCALENDAR
