BEGIN:VCALENDAR
VERSION:2.0
PRODID:-//ChamberMaster//Event Calendar 2.0//EN
METHOD:PUBLISH
X-PUBLISHED-TTL:P3D
REFRESH-INTERVAL:P3D
CALSCALE:GREGORIAN
BEGIN:VEVENT
DTSTART:20200131T180000Z
DTEND:20200131T190000Z
X-MICROSOFT-CDO-ALLDAYEVENT:FALSE
SUMMARY:Membership Lunch
DESCRIPTION:Monthly Chamber membership lunch\, open to all current Chamber members with RSVP.\n\nPresenter: FHSU President\, Dr. Tisa Mason\n\nSponsor: Commerce Bank
X-ALT-DESC;FMTTYPE=text/html:<span style="font-size:12px\;"><span style="font-family:tahoma\;"><span style="font-family:arial\;"><span style="color:black\;">Monthly Chamber membership lunch\, open to all current Chamber members with RSVP.<br />\nPresenter: FHSU President\, Dr. Tisa Mason</span><br />\n<span style="color:black\;">Sponsor: Commerce Bank</span></span></span></span><br />\n&nbsp\;
LOCATION:Smoky Hill Country Club 3303 N. Hall Hays\, KS 67601
UID:e.1271.9966
SEQUENCE:3
DTSTAMP:20260420T111212Z
URL:https://members.hayschamber.com/events/details/membership-lunch-01-24-2020-9966
END:VEVENT

END:VCALENDAR
