BEGIN:VCALENDAR
VERSION:2.0
PRODID:-//ChamberMaster//Event Calendar 2.0//EN
METHOD:PUBLISH
X-PUBLISHED-TTL:P3D
REFRESH-INTERVAL:P3D
CALSCALE:GREGORIAN
BEGIN:VEVENT
DTSTART:20170127T180000Z
DTEND:20170127T190000Z
X-MICROSOFT-CDO-ALLDAYEVENT:FALSE
SUMMARY:Membership Lunch
DESCRIPTION:
X-ALT-DESC;FMTTYPE=text/html:
LOCATION:Smoky Hill Country Club 3303 N. Hall
UID:e.1271.5784
SEQUENCE:3
DTSTAMP:20260426T015800Z
URL:https://members.hayschamber.com/events/details/membership-lunch-01-27-2017-5784
END:VEVENT

END:VCALENDAR
