BEGIN:VCALENDAR
VERSION:2.0
PRODID:-//ChamberMaster//Event Calendar 2.0//EN
METHOD:PUBLISH
X-PUBLISHED-TTL:P3D
REFRESH-INTERVAL:P3D
CALSCALE:GREGORIAN
BEGIN:VEVENT
DTSTART:20200228T180000Z
DTEND:20200228T190000Z
X-MICROSOFT-CDO-ALLDAYEVENT:FALSE
SUMMARY:Membership Lunch
DESCRIPTION:Monthly Chamber membership lunch\, open to all current Chamber members with RSVP.\n\nPresenter: Ellis County Administration\n\nSponsor: Golden Belt Bank
X-ALT-DESC;FMTTYPE=text/html:<span style="font-size:12px\;"><span style="font-family:tahoma\;"><span style="font-family:arial\;"><span style="color:black\;">Monthly Chamber membership lunch\, open to all current Chamber members with RSVP.<br />\nPresenter: Ellis County Administration</span><br />\n<span style="color:black\;">Sponsor: Golden Belt Bank</span></span></span></span><br />\n&nbsp\;
LOCATION:Smoky Hill Country Club 3303 N. Hall Hays\, KS 67601
UID:e.1271.10375
SEQUENCE:3
DTSTAMP:20260420T094114Z
URL:https://members.hayschamber.com/events/details/membership-lunch-02-28-2020-10375
END:VEVENT

END:VCALENDAR
