BEGIN:VCALENDAR
VERSION:2.0
PRODID:-//ChamberMaster//Event Calendar 2.0//EN
METHOD:PUBLISH
X-PUBLISHED-TTL:P3D
REFRESH-INTERVAL:P3D
CALSCALE:GREGORIAN
BEGIN:VEVENT
DTSTART:20190329T170000Z
DTEND:20190329T180000Z
X-MICROSOFT-CDO-ALLDAYEVENT:FALSE
SUMMARY:Membership Lunch
DESCRIPTION:Monthly Chamber membership lunch\, open to all current Chamber members with RSVP.\n\nPresenter: Jason Williby and Dr. Joey Linn\n\nSponsor: Midwest Energy
X-ALT-DESC;FMTTYPE=text/html:<span style="font-size:12px\;"><span style="font-family:tahoma\;"><span style="font-family:arial\;"><span style="color:black\;">Monthly Chamber membership lunch\, open to all current Chamber members with RSVP.<br />\nPresenter: Jason Williby and Dr. Joey Linn</span><br />\n<span style="color:black\;">Sponsor: Midwest Energy</span></span></span></span><br />\n&nbsp\;
LOCATION:Smoky Hill Country Club 3303 N. Hall
UID:e.1271.9956
SEQUENCE:3
DTSTAMP:20260422T182643Z
URL:https://members.hayschamber.com/events/details/membership-lunch-03-22-2019-9956
END:VEVENT

END:VCALENDAR
